View In:
ArcGIS JavaScript
ArcGIS Online Map Viewer
ArcGIS Earth
Service Description: 2013 Aerial Imagery, WKID2227, Dynamic
Name: Aerials/Aerial2013
Description: 2013 Aerial Imagery, WKID2227, Dynamic
Single Fused Map Cache: false
Extent:
XMin: 6166366.833066389
YMin: 2052404.9542601998
XMax: 6217366.833066088
YMax: 2092404.954266002
Spatial Reference: 102643
(2227)
Initial Extent:
XMin: 6166366.833066389
YMin: 2052404.9542601998
XMax: 6217366.833066088
YMax: 2092404.954266002
Spatial Reference: 102643
(2227)
Full Extent:
XMin: 6166366.833066389
YMin: 2052404.9542601998
XMax: 6217366.833066088
YMax: 2092404.954266002
Spatial Reference: 102643
(2227)
Pixel Size X: 0.4999999999970508
Pixel Size Y: 0.5000000000725268
Band Count: 3
Pixel Type: U8
RasterFunction Infos: {"rasterFunctionInfos": [{
"name": "None",
"description": "",
"help": ""
}]}
Mensuration Capabilities: Basic
Inspection Capabilities:
Has Histograms: true
Has Colormap: false
Has Multi Dimensions : false
Rendering Rule:
Min Scale: 0
Max Scale: 0
Resampling: false
Copyright Text:
Service Data Type: esriImageServiceDataTypeRGB
Min Values: 0, 0, 0
Max Values: 255, 255, 255
Mean Values: 144.16999381902718, 140.4467188582797, 133.3590245885193
Standard Deviation Values: 64.74346601407993, 63.77991610916481, 65.55879546445405
Object ID Field:
Fields:
None
Default Mosaic Method: Center
Allowed Mosaic Methods:
SortField:
SortValue: null
Mosaic Operator: First
Default Compression Quality: 75
Default Resampling Method: Bilinear
Max Record Count: null
Max Image Height: 4100
Max Image Width: 15000
Max Download Image Count: null
Max Mosaic Image Count: null
Allow Raster Function: true
Allow Copy: true
Allow Analysis: true
Allow Compute TiePoints: false
Supports Statistics: false
Supports Advanced Queries: false
Use StandardizedQueries: true
Raster Type Infos:
Name: Raster Dataset
Description: Supports all ArcGIS Raster Datasets
Help:
Has Raster Attribute Table: false
Edit Fields Info: null
Ownership Based AccessControl For Rasters: null
Child Resources:
Info
Histograms
Statistics
Key Properties
Legend
Raster Function Infos
Supported Operations:
Export Image
Identify
Measure
Compute Histograms
Compute Statistics Histograms
Get Samples
Compute Class Statistics
Query Boundary
Compute Pixel Location
Compute Angles
Validate
Project