{
 "currentVersion": 11.2,
 "serviceDescription": "2013 Aerial Imagery, WKID2227, Dynamic",
 "name": "Aerials/Aerial2013",
 "description": "2013 Aerial Imagery, WKID2227, Dynamic",
 "extent": {
  "xmin": 6166366.833066389,
  "ymin": 2052404.9542601998,
  "xmax": 6217366.833066088,
  "ymax": 2092404.954266002,
  "spatialReference": {
   "wkid": 102643,
   "latestWkid": 2227
  }
 },
 "initialExtent": {
  "xmin": 6166366.833066389,
  "ymin": 2052404.9542601998,
  "xmax": 6217366.833066088,
  "ymax": 2092404.954266002,
  "spatialReference": {
   "wkid": 102643,
   "latestWkid": 2227
  }
 },
 "fullExtent": {
  "xmin": 6166366.833066389,
  "ymin": 2052404.9542601998,
  "xmax": 6217366.833066088,
  "ymax": 2092404.954266002,
  "spatialReference": {
   "wkid": 102643,
   "latestWkid": 2227
  }
 },
 "sortableFields": "",
 "bandCount": 3,
 "pixelType": "U8",
 "minValues": [
  0,
  0,
  0
 ],
 "maxValues": [
  255,
  255,
  255
 ],
 "meanValues": [
  144.16999381902718,
  140.4467188582797,
  133.3590245885193
 ],
 "stdvValues": [
  64.74346601407993,
  63.77991610916481,
  65.55879546445405
 ],
 "hasMultidimensions": false,
 "pixelSizeX": 0.4999999999970508,
 "pixelSizeY": 0.5000000000725268,
 "meanPixelSize": 0.15240030481121328,
 "datasetFormat": "SDR",
 "uncompressedSize": 24480000000,
 "blockWidth": 128,
 "blockHeight": 128,
 "compressionType": "LZ77",
 "bandNames": [
  "Band_1",
  "Band_2",
  "Band_3"
 ],
 "allowCopy": true,
 "allowAnalysis": true,
 "itemAccess": false,
 "inspectionCapabilities": "",
 "minPixelSize": 0,
 "maxPixelSize": 0,
 "copyrightText": "",
 "serviceDataType": "esriImageServiceDataTypeRGB",
 "serviceSourceType": "esriImageServiceSourceTypeDataset",
 "objectIdField": "",
 "fields": [],
 "capabilities": "Mensuration,Image,Metadata",
 "defaultMosaicMethod": "Center",
 "allowedMosaicMethods": "",
 "sortField": "",
 "sortValue": null,
 "sortAscending": true,
 "mosaicOperator": "First",
 "defaultCompressionQuality": 75,
 "defaultResamplingMethod": "Bilinear",
 "maxImageHeight": 4100,
 "maxImageWidth": 15000,
 "allowRasterFunction": true,
 "rasterFunctionInfos": [
  {
   "name": "None",
   "description": "",
   "help": ""
  }
 ],
 "rasterTypeInfos": [
  {
   "name": "Raster Dataset",
   "description": "Supports all ArcGIS Raster Datasets",
   "help": ""
  }
 ],
 "mensurationCapabilities": "Basic",
 "hasHistograms": true,
 "hasColormap": false,
 "hasRasterAttributeTable": false,
 "minScale": 0,
 "maxScale": 0,
 "exportTilesAllowed": false,
 "supportsStatistics": false,
 "supportsAdvancedQueries": false,
 "editFieldsInfo": null,
 "ownershipBasedAccessControlForRasters": null,
 "allowComputeTiePoints": false,
 "useStandardizedQueries": true,
 "advancedQueryCapabilities": {
  "useStandardizedQueries": true,
  "supportsStatistics": false,
  "supportsOrderBy": false,
  "supportsDistinct": false,
  "supportsPagination": false
 },
 "spatialReference": {
  "wkid": 102643,
  "latestWkid": 2227
 },
 "resampling": false
}
