View In:
ArcGIS JavaScript
ArcGIS Online Map Viewer
ArcGIS Earth
Service Description: 2010 Aerial Imagery, Orthophoto, Dynamic, WKID2227
Name: Aerials/Aerial2010
Description: 2010 Aerial Imagery, Orthophoto, Dynamic, WKID2227
Single Fused Map Cache: false
Extent:
XMin: 6166364.83397555
YMin: 2050404.9641217208
XMax: 6220364.833975634
YMax: 2094404.9641218488
Spatial Reference: 102643
(2227)
Initial Extent:
XMin: 6166364.83397555
YMin: 2050404.9641217208
XMax: 6220364.833975634
YMax: 2094404.9641218488
Spatial Reference: 102643
(2227)
Full Extent:
XMin: 6166364.83397555
YMin: 2050404.9641217208
XMax: 6220364.833975634
YMax: 2094404.9641218488
Spatial Reference: 102643
(2227)
Pixel Size X: 0.5000000000007762
Pixel Size Y: 0.5000000000014552
Band Count: 3
Pixel Type: U8
RasterFunction Infos: {"rasterFunctionInfos": [{
"name": "None",
"description": "",
"help": ""
}]}
Mensuration Capabilities: Basic
Inspection Capabilities:
Has Histograms: true
Has Colormap: false
Has Multi Dimensions : false
Rendering Rule:
Min Scale: 0
Max Scale: 0
Resampling: false
Copyright Text:
Service Data Type: esriImageServiceDataTypeRGB
Min Values: 0, 0, 0
Max Values: 255, 255, 255
Mean Values: 113.8534972745098, 116.29738123739496, 87.84005145168067
Standard Deviation Values: 49.23293953255817, 42.42904114344404, 43.57835055675516
Object ID Field:
Fields:
None
Default Mosaic Method: Center
Allowed Mosaic Methods:
SortField:
SortValue: null
Mosaic Operator: First
Default Compression Quality: 75
Default Resampling Method: Bilinear
Max Record Count: null
Max Image Height: 4100
Max Image Width: 15000
Max Download Image Count: null
Max Mosaic Image Count: null
Allow Raster Function: true
Allow Copy: true
Allow Analysis: true
Allow Compute TiePoints: false
Supports Statistics: false
Supports Advanced Queries: false
Use StandardizedQueries: true
Raster Type Infos:
Name: Raster Dataset
Description: Supports all ArcGIS Raster Datasets
Help:
Has Raster Attribute Table: false
Edit Fields Info: null
Ownership Based AccessControl For Rasters: null
Child Resources:
Info
Histograms
Statistics
Key Properties
Legend
Raster Function Infos
Supported Operations:
Export Image
Identify
Measure
Compute Histograms
Compute Statistics Histograms
Get Samples
Compute Class Statistics
Query Boundary
Compute Pixel Location
Compute Angles
Validate
Project