{
 "currentVersion": 11.2,
 "serviceDescription": "2010 Aerial Imagery, Orthophoto, Dynamic, WKID2227",
 "name": "Aerials/Aerial2010",
 "description": "2010 Aerial Imagery, Orthophoto, Dynamic, WKID2227",
 "extent": {
  "xmin": 6166364.83397555,
  "ymin": 2050404.9641217208,
  "xmax": 6220364.833975634,
  "ymax": 2094404.9641218488,
  "spatialReference": {
   "wkid": 102643,
   "latestWkid": 2227
  }
 },
 "initialExtent": {
  "xmin": 6166364.83397555,
  "ymin": 2050404.9641217208,
  "xmax": 6220364.833975634,
  "ymax": 2094404.9641218488,
  "spatialReference": {
   "wkid": 102643,
   "latestWkid": 2227
  }
 },
 "fullExtent": {
  "xmin": 6166364.83397555,
  "ymin": 2050404.9641217208,
  "xmax": 6220364.833975634,
  "ymax": 2094404.9641218488,
  "spatialReference": {
   "wkid": 102643,
   "latestWkid": 2227
  }
 },
 "sortableFields": "",
 "bandCount": 3,
 "pixelType": "U8",
 "minValues": [
  0,
  0,
  0
 ],
 "maxValues": [
  255,
  255,
  255
 ],
 "meanValues": [
  113.8534972745098,
  116.29738123739496,
  87.84005145168067
 ],
 "stdvValues": [
  49.23293953255817,
  42.42904114344404,
  43.57835055675516
 ],
 "hasMultidimensions": false,
 "pixelSizeX": 0.5000000000007762,
 "pixelSizeY": 0.5000000000014552,
 "meanPixelSize": 0.15240030480094968,
 "datasetFormat": "SDR",
 "uncompressedSize": 28511736000,
 "blockWidth": 128,
 "blockHeight": 128,
 "compressionType": "LZ77",
 "bandNames": [
  "Band_1",
  "Band_2",
  "Band_3"
 ],
 "allowCopy": true,
 "allowAnalysis": true,
 "itemAccess": false,
 "inspectionCapabilities": "",
 "minPixelSize": 0,
 "maxPixelSize": 0,
 "copyrightText": "",
 "serviceDataType": "esriImageServiceDataTypeRGB",
 "serviceSourceType": "esriImageServiceSourceTypeDataset",
 "objectIdField": "",
 "fields": [],
 "capabilities": "Mensuration,Image,Metadata",
 "defaultMosaicMethod": "Center",
 "allowedMosaicMethods": "",
 "sortField": "",
 "sortValue": null,
 "sortAscending": true,
 "mosaicOperator": "First",
 "defaultCompressionQuality": 75,
 "defaultResamplingMethod": "Bilinear",
 "maxImageHeight": 4100,
 "maxImageWidth": 15000,
 "allowRasterFunction": true,
 "rasterFunctionInfos": [
  {
   "name": "None",
   "description": "",
   "help": ""
  }
 ],
 "rasterTypeInfos": [
  {
   "name": "Raster Dataset",
   "description": "Supports all ArcGIS Raster Datasets",
   "help": ""
  }
 ],
 "mensurationCapabilities": "Basic",
 "hasHistograms": true,
 "hasColormap": false,
 "hasRasterAttributeTable": false,
 "minScale": 0,
 "maxScale": 0,
 "exportTilesAllowed": false,
 "supportsStatistics": false,
 "supportsAdvancedQueries": false,
 "editFieldsInfo": null,
 "ownershipBasedAccessControlForRasters": null,
 "allowComputeTiePoints": false,
 "useStandardizedQueries": true,
 "advancedQueryCapabilities": {
  "useStandardizedQueries": true,
  "supportsStatistics": false,
  "supportsOrderBy": false,
  "supportsDistinct": false,
  "supportsPagination": false
 },
 "spatialReference": {
  "wkid": 102643,
  "latestWkid": 2227
 },
 "resampling": false
}
