View In:
ArcGIS JavaScript
ArcGIS Online Map Viewer
ArcGIS Earth
Service Description: Aerials/Aerial2024
Name: Aerials/Aerial2024
Description:
Single Fused Map Cache: false
Extent:
XMin: 6170736.083786339
YMin: 2052071.9643224329
XMax: 6218256.083786339
YMax: 2094311.9643224329
Spatial Reference: 102643
(2227)
Initial Extent:
XMin: 6170736.083786339
YMin: 2052071.9643224329
XMax: 6218256.083786339
YMax: 2094311.9643224329
Spatial Reference: 102643
(2227)
Full Extent:
XMin: 6170736.083786339
YMin: 2052071.9643224329
XMax: 6218256.083786339
YMax: 2094311.9643224329
Spatial Reference: 102643
(2227)
Pixel Size X: 0.25
Pixel Size Y: 0.25
Band Count: 3
Pixel Type: U8
RasterFunction Infos: {"rasterFunctionInfos": [{
"name": "None",
"description": "",
"help": ""
}]}
Mensuration Capabilities: Basic
Inspection Capabilities:
Has Histograms: true
Has Colormap: false
Has Multi Dimensions : false
Rendering Rule:
Min Scale: 0
Max Scale: 0
Copyright Text:
Service Data Type: esriImageServiceDataTypeProcessed
Min Values: 0, 0, 0
Max Values: 255, 255, 255
Mean Values: 141.23599460531645, 132.03756683644264, 119.60914248269786
Standard Deviation Values: 52.289152198961844, 51.31733369557762, 51.87702526920688
Object ID Field:
Fields:
None
Default Mosaic Method: Center
Allowed Mosaic Methods:
SortField:
SortValue: null
Mosaic Operator: First
Default Compression Quality: 75
Default Resampling Method: Bilinear
Max Record Count: null
Max Image Height: 4100
Max Image Width: 15000
Max Download Image Count: null
Max Mosaic Image Count: null
Allow Raster Function: true
Allow Copy: true
Allow Analysis: true
Allow Compute TiePoints: false
Supports Statistics: false
Supports Advanced Queries: false
Use StandardizedQueries: true
Raster Type Infos:
Name: Raster Dataset
Description: Supports all ArcGIS Raster Datasets
Help:
Has Raster Attribute Table: false
Edit Fields Info: null
Ownership Based AccessControl For Rasters: null
Child Resources:
Info
Histograms
Statistics
Key Properties
Legend
Raster Function Infos
Supported Operations:
Export Image
Identify
Measure
Compute Histograms
Compute Statistics Histograms
Get Samples
Compute Class Statistics
Query Boundary
Compute Pixel Location
Compute Angles
Validate
Project