View In:
ArcGIS JavaScript
ArcGIS Online Map Viewer
ArcGIS Earth
Service Description: Aerials/Aerial2020
Name: Aerials/Aerial2020
Description:
Single Fused Map Cache: false
Extent:
XMin: 6171528.083786339
YMin: 2051279.9643224329
XMax: 6219048.083786339
YMax: 2093519.9643224329
Spatial Reference: 103005
(6420)
Initial Extent:
XMin: 6171528.083786339
YMin: 2051279.9643224329
XMax: 6219048.083786339
YMax: 2093519.9643224329
Spatial Reference: 103005
(6420)
Full Extent:
XMin: 6171528.083786339
YMin: 2051279.9643224329
XMax: 6219048.083786339
YMax: 2093519.9643224329
Spatial Reference: 103005
(6420)
Pixel Size X: 0.25
Pixel Size Y: 0.25
Band Count: 3
Pixel Type: U8
RasterFunction Infos: {"rasterFunctionInfos": [{
"name": "None",
"description": "",
"help": ""
}]}
Mensuration Capabilities: Basic
Inspection Capabilities:
Has Histograms: true
Has Colormap: false
Has Multi Dimensions : false
Rendering Rule:
Min Scale: 0
Max Scale: 0
Copyright Text:
Service Data Type: esriImageServiceDataTypeProcessed
Min Values: 0, 0, 0
Max Values: 255, 255, 255
Mean Values: 151.7681979692877, 140.22091725550598, 122.82106748122881
Standard Deviation Values: 46.54921006477784, 45.34273625096054, 50.535795936477356
Object ID Field:
Fields:
None
Default Mosaic Method: Center
Allowed Mosaic Methods:
SortField:
SortValue: null
Mosaic Operator: First
Default Compression Quality: 75
Default Resampling Method: Bilinear
Max Record Count: null
Max Image Height: 4100
Max Image Width: 15000
Max Download Image Count: null
Max Mosaic Image Count: null
Allow Raster Function: true
Allow Copy: true
Allow Analysis: true
Allow Compute TiePoints: false
Supports Statistics: false
Supports Advanced Queries: false
Use StandardizedQueries: true
Raster Type Infos:
Name: Raster Dataset
Description: Supports all ArcGIS Raster Datasets
Help:
Has Raster Attribute Table: false
Edit Fields Info: null
Ownership Based AccessControl For Rasters: null
Child Resources:
Info
Histograms
Statistics
Key Properties
Legend
Raster Function Infos
Supported Operations:
Export Image
Identify
Measure
Compute Histograms
Compute Statistics Histograms
Get Samples
Compute Class Statistics
Query Boundary
Compute Pixel Location
Compute Angles
Validate
Project