{
 "currentVersion": 11.2,
 "cimVersion": "3.2.0",
 "serviceDescription": "Base Feature Layers of the Livermore Water Treatment Plant, tiled MS, WKID6420",
 "mapName": "Layers",
 "description": "Base Feature Layers of the Livermore Water Treatment Plant, tiled MS, WKID6420",
 "copyrightText": "",
 "supportsDynamicLayers": true,
 "layers": [
  {
   "id": 0,
   "name": "Labels",
   "parentLayerId": -1,
   "defaultVisibility": true,
   "subLayerIds": [
    4
   ],
   "minScale": 2500,
   "maxScale": 0,
   "type": "Annotation Layer",
   "geometryType": "esriGeometryPolygon",
   "supportsDynamicLegends": false
  },
  {
   "id": 4,
   "name": "Default",
   "parentLayerId": 0,
   "defaultVisibility": true,
   "subLayerIds": null,
   "minScale": 0,
   "maxScale": 0,
   "supportsDynamicLegends": false
  },
  {
   "id": 1,
   "name": "Point Facilities",
   "parentLayerId": -1,
   "defaultVisibility": true,
   "subLayerIds": null,
   "minScale": 20000,
   "maxScale": 0,
   "type": "Feature Layer",
   "geometryType": "esriGeometryPoint",
   "supportsDynamicLegends": true
  },
  {
   "id": 2,
   "name": "Line Facilities",
   "parentLayerId": -1,
   "defaultVisibility": true,
   "subLayerIds": null,
   "minScale": 20000,
   "maxScale": 0,
   "type": "Feature Layer",
   "geometryType": "esriGeometryPolyline",
   "supportsDynamicLegends": true
  },
  {
   "id": 3,
   "name": "Hardscape",
   "parentLayerId": -1,
   "defaultVisibility": true,
   "subLayerIds": null,
   "minScale": 20000,
   "maxScale": 0,
   "type": "Feature Layer",
   "geometryType": "esriGeometryPolygon",
   "supportsDynamicLegends": true
  }
 ],
 "tables": [],
 "spatialReference": {
  "wkid": 103005,
  "latestWkid": 6420,
  "xyTolerance": 0.003280833333333333,
  "zTolerance": 0.001,
  "mTolerance": 0.001,
  "falseX": -115860600,
  "falseY": -93269500,
  "xyUnits": 3.678742734568671E7,
  "falseZ": -100000,
  "zUnits": 10000,
  "falseM": -100000,
  "mUnits": 10000
 },
 "singleFusedMapCache": true,
 "tileInfo": {
  "rows": 256,
  "cols": 256,
  "dpi": 96,
  "format": "PNG32",
  "compressionQuality": 0,
  "origin": {
   "x": -115860600,
   "y": 151575000
  },
  "spatialReference": {
   "wkid": 103005,
   "latestWkid": 6420,
   "xyTolerance": 0.003280833333333333,
   "zTolerance": 0.001,
   "mTolerance": 0.001,
   "falseX": -115860600,
   "falseY": -93269500,
   "xyUnits": 3.678742734568671E7,
   "falseZ": -100000,
   "zUnits": 10000,
   "falseM": -100000,
   "mUnits": 10000
  },
  "lods": [
   {
    "level": 0,
    "resolution": 13.888888888888888,
    "scale": 16000
   },
   {
    "level": 1,
    "resolution": 6.944444444444444,
    "scale": 8000
   },
   {
    "level": 2,
    "resolution": 3.472222222222222,
    "scale": 4000
   },
   {
    "level": 3,
    "resolution": 1.736111111111111,
    "scale": 2000
   },
   {
    "level": 4,
    "resolution": 0.8680555555555555,
    "scale": 1000
   },
   {
    "level": 5,
    "resolution": 0.43402777777777773,
    "scale": 500
   },
   {
    "level": 6,
    "resolution": 0.21701388888888887,
    "scale": 250
   }
  ]
 },
 "storageInfo": {
  "storageFormat": "esriMapCacheStorageModeCompactV2",
  "packetSize": 128
 },
 "initialExtent": {
  "xmin": 6182041.241772791,
  "ymin": 2075687.74632265,
  "xmax": 6184610.455891231,
  "ymax": 2077733.6938590524,
  "spatialReference": {
   "wkid": 103005,
   "latestWkid": 6420,
   "xyTolerance": 0.003280833333333333,
   "zTolerance": 0.001,
   "mTolerance": 0.001,
   "falseX": -115860600,
   "falseY": -93269500,
   "xyUnits": 3.678742734568671E7,
   "falseZ": -100000,
   "zUnits": 10000,
   "falseM": -100000,
   "mUnits": 10000
  }
 },
 "fullExtent": {
  "xmin": 6182041.241772791,
  "ymin": 2075835.4042397738,
  "xmax": 6184610.455891232,
  "ymax": 2077586.0359419286,
  "spatialReference": {
   "wkid": 103005,
   "latestWkid": 6420,
   "xyTolerance": 0.003280833333333333,
   "zTolerance": 0.001,
   "mTolerance": 0.001,
   "falseX": -115860600,
   "falseY": -93269500,
   "xyUnits": 3.678742734568671E7,
   "falseZ": -100000,
   "zUnits": 10000,
   "falseM": -100000,
   "mUnits": 10000
  }
 },
 "datesInUnknownTimezone": false,
 "minScale": 16000,
 "maxScale": 250,
 "minLOD": 0,
 "maxLOD": 6,
 "units": "esriFeet",
 "supportedImageFormatTypes": "PNG32,PNG24,PNG,JPG,DIB,TIFF,EMF,PS,PDF,GIF,SVG,SVGZ,BMP",
 "documentInfo": {
  "Title": "Water Resources Plant Base Layers",
  "Author": "",
  "Comments": "Base Feature Layers of the Livermore Water Treatment Plant, tiled MS, WKID6420",
  "Subject": "Base Feature Layers of the Livermore Water Treatment Plant",
  "Category": "",
  "Version": "2.6.0",
  "AntialiasingMode": "Best",
  "TextAntialiasingMode": "Force",
  "Keywords": "City of Livermore,Base Feature Layers,Water Treatment Plant"
 },
 "supportsQueryDomains": true,
 "capabilities": "Map,Query,Data",
 "supportedQueryFormats": "JSON, geoJSON, PBF",
 "hasVersionedData": true,
 "exportTilesAllowed": false,
 "referenceScale": 0.0,
 "supportsDatumTransformation": true,
 "archivingInfo": {
  "supportsHistoricMoment": false
 },
 "supportsClipping": true,
 "supportsSpatialFilter": true,
 "supportsTimeRelation": true,
 "supportsQueryDataElements": true,
 "mapUnits": {
  "uwkid": 9003
 },
 "maxRecordCount": 1000,
 "maxImageHeight": 4096,
 "maxImageWidth": 4096,
 "supportedExtensions": "",
 "resampling": false
}
