{ "currentVersion": 11.2, "cimVersion": "3.2.0", "serviceDescription": "
Data from MTC, downloaded April 2021, survey conducted 2020. fused, WKID 6420<\/SPAN><\/P><\/DIV><\/DIV>",
"mapName": "Layers",
"description": " Data from MTC, downloaded April 2021, survey conducted 2020. fused, WKID 6420<\/SPAN><\/P><\/DIV><\/DIV>",
"copyrightText": "",
"supportsDynamicLayers": true,
"layers": [
{
"id": 0,
"name": "Pavement Age (2020)",
"parentLayerId": -1,
"defaultVisibility": true,
"subLayerIds": null,
"minScale": 100000,
"maxScale": 0,
"type": "Feature Layer",
"geometryType": "esriGeometryPolyline",
"supportsDynamicLegends": true
}
],
"tables": [],
"spatialReference": {
"wkid": 103005,
"latestWkid": 6420,
"xyTolerance": 0.003280833333333333,
"zTolerance": 2,
"mTolerance": 0.001,
"falseX": -115860600,
"falseY": -93269500,
"xyUnits": 3.678742734568671E7,
"falseZ": 0,
"zUnits": 1,
"falseM": -100000,
"mUnits": 10000
},
"singleFusedMapCache": true,
"tileInfo": {
"rows": 256,
"cols": 256,
"dpi": 96,
"format": "PNG",
"compressionQuality": 0,
"origin": {
"x": -115860600,
"y": 151575000
},
"spatialReference": {
"wkid": 103005,
"latestWkid": 6420,
"xyTolerance": 0.003280833333333333,
"zTolerance": 0.001,
"mTolerance": 0.001,
"falseX": -115860600,
"falseY": -93269500,
"xyUnits": 3.678742734568671E7,
"falseZ": -100000,
"zUnits": 10000,
"falseM": -100000,
"mUnits": 10000
},
"lods": [
{
"level": 0,
"resolution": 108.50694444444444,
"scale": 125000
},
{
"level": 1,
"resolution": 55.55555555555555,
"scale": 64000
},
{
"level": 2,
"resolution": 27.777777777777775,
"scale": 32000
},
{
"level": 3,
"resolution": 13.888888888888888,
"scale": 16000
},
{
"level": 4,
"resolution": 6.944444444444444,
"scale": 8000
},
{
"level": 5,
"resolution": 3.472222222222222,
"scale": 4000
},
{
"level": 6,
"resolution": 1.736111111111111,
"scale": 2000
},
{
"level": 7,
"resolution": 0.8680555555555555,
"scale": 1000
},
{
"level": 8,
"resolution": 0.43402777777777773,
"scale": 500
},
{
"level": 9,
"resolution": 0.21701388888888887,
"scale": 250
}
]
},
"storageInfo": {
"storageFormat": "esriMapCacheStorageModeCompactV2",
"packetSize": 128
},
"initialExtent": {
"xmin": 6168801.909721902,
"ymin": 2055190.6951917165,
"xmax": 6218196.405713374,
"ymax": 2094525.1152621454,
"spatialReference": {
"wkid": 103005,
"latestWkid": 6420,
"xyTolerance": 0.003280833333333333,
"zTolerance": 2,
"mTolerance": 0.001,
"falseX": -115860600,
"falseY": -93269500,
"xyUnits": 3.678742734568671E7,
"falseZ": 0,
"zUnits": 1,
"falseM": -100000,
"mUnits": 10000
}
},
"fullExtent": {
"xmin": 6168801.909721902,
"ymin": 2055190.6951917165,
"xmax": 6218196.405713374,
"ymax": 2094525.1152621454,
"spatialReference": {
"wkid": 103005,
"latestWkid": 6420,
"xyTolerance": 0.003280833333333333,
"zTolerance": 2,
"mTolerance": 0.001,
"falseX": -115860600,
"falseY": -93269500,
"xyUnits": 3.678742734568671E7,
"falseZ": 0,
"zUnits": 1,
"falseM": -100000,
"mUnits": 10000
}
},
"datesInUnknownTimezone": false,
"minScale": 125000,
"maxScale": 250,
"minLOD": 0,
"maxLOD": 9,
"units": "esriFeet",
"supportedImageFormatTypes": "PNG32,PNG24,PNG,JPG,DIB,TIFF,EMF,PS,PDF,GIF,SVG,SVGZ,BMP",
"documentInfo": {
"Title": "Street Remaining Life",
"Author": "",
"Comments": " Data from MTC, downloaded April 2021, survey conducted 2020. fused, WKID 6420<\/SPAN><\/P><\/DIV><\/DIV>",
"Subject": "City-managed streets. Categorized by remaining life in 5 yr increments (<5 to >20 yrs). Data from MTC, downloaded April 2021, survey conducted 2020. fused 125k to 250, local projection WKID 6420, migrated to Pro Jan 2024.",
"Category": "",
"Version": "2.6.0",
"AntialiasingMode": "Best",
"TextAntialiasingMode": "Force",
"Keywords": "City of Livermore,Street,Useful Life,MTC"
},
"supportsQueryDomains": true,
"capabilities": "Map,Query,Data",
"supportedQueryFormats": "JSON, geoJSON, PBF",
"hasVersionedData": true,
"exportTilesAllowed": false,
"referenceScale": 0.0,
"supportsDatumTransformation": true,
"archivingInfo": {"supportsHistoricMoment": false},
"supportsClipping": true,
"supportsSpatialFilter": true,
"supportsTimeRelation": true,
"supportsQueryDataElements": true,
"mapUnits": {"uwkid": 9003},
"maxRecordCount": 2500,
"maxImageHeight": 4096,
"maxImageWidth": 4096,
"supportedExtensions": "",
"resampling": false
}