{ "currentVersion": 11.2, "cimVersion": "3.2.0", "serviceDescription": "PublicWorksMaintenanceAreas\nTiled, Ca SP Z3", "mapName": "Layers", "description": "
Public Works Maintenance Areas breaks the city into 13 different management units for public works assets, labeled, local projection WKID 6420, tiled 125K to 250, migrated to Pro Jan 2024.<\/SPAN><\/P><\/DIV>",
"copyrightText": "",
"supportsDynamicLayers": true,
"layers": [],
"tables": [],
"spatialReference": {
"wkid": 103005,
"latestWkid": 6420,
"xyTolerance": 0.003280833333333333,
"zTolerance": 0.001,
"mTolerance": 0.001,
"falseX": -115860600,
"falseY": -93269500,
"xyUnits": 3.678742734568671E7,
"falseZ": -100000,
"zUnits": 10000,
"falseM": -100000,
"mUnits": 10000
},
"singleFusedMapCache": true,
"tileInfo": {
"rows": 256,
"cols": 256,
"dpi": 96,
"format": "PNG",
"compressionQuality": 0,
"origin": {
"x": -115860600,
"y": 151575000
},
"spatialReference": {
"wkid": 103005,
"latestWkid": 6420,
"xyTolerance": 0.003280833333333333,
"zTolerance": 0.001,
"mTolerance": 0.001,
"falseX": -115860600,
"falseY": -93269500,
"xyUnits": 3.678742734568671E7,
"falseZ": -100000,
"zUnits": 10000,
"falseM": -100000,
"mUnits": 10000
},
"lods": [
{
"level": 0,
"resolution": 108.50694444444444,
"scale": 125000
},
{
"level": 1,
"resolution": 55.55555555555555,
"scale": 64000
},
{
"level": 2,
"resolution": 27.777777777777775,
"scale": 32000
},
{
"level": 3,
"resolution": 13.888888888888888,
"scale": 16000
},
{
"level": 4,
"resolution": 6.944444444444444,
"scale": 8000
},
{
"level": 5,
"resolution": 3.472222222222222,
"scale": 4000
},
{
"level": 6,
"resolution": 1.736111111111111,
"scale": 2000
},
{
"level": 7,
"resolution": 0.8680555555555555,
"scale": 1000
},
{
"level": 8,
"resolution": 0.43402777777777773,
"scale": 500
},
{
"level": 9,
"resolution": 0.21701388888888887,
"scale": 250
}
]
},
"storageInfo": {
"storageFormat": "esriMapCacheStorageModeCompactV2",
"packetSize": 128
},
"initialExtent": {
"xmin": 6172155.217726546,
"ymin": 2054605.3768701006,
"xmax": 6221702.770023451,
"ymax": 2094061.680581439,
"spatialReference": {
"wkid": 103005,
"latestWkid": 6420,
"xyTolerance": 0.003280833333333333,
"zTolerance": 0.001,
"mTolerance": 0.001,
"falseX": -115860600,
"falseY": -93269500,
"xyUnits": 3.678742734568671E7,
"falseZ": -100000,
"zUnits": 10000,
"falseM": -100000,
"mUnits": 10000
}
},
"fullExtent": {
"xmin": 6172155.217726543,
"ymin": 2057452.9746309198,
"xmax": 6221702.770023454,
"ymax": 2091214.0828206164,
"spatialReference": {
"wkid": 103005,
"latestWkid": 6420,
"xyTolerance": 0.003280833333333333,
"zTolerance": 0.001,
"mTolerance": 0.001,
"falseX": -115860600,
"falseY": -93269500,
"xyUnits": 3.678742734568671E7,
"falseZ": -100000,
"zUnits": 10000,
"falseM": -100000,
"mUnits": 10000
}
},
"datesInUnknownTimezone": false,
"minScale": 125000,
"maxScale": 250,
"minLOD": 0,
"maxLOD": 9,
"units": "esriFeet",
"supportedImageFormatTypes": "PNG32,PNG24,PNG,JPG,DIB,TIFF,EMF,PS,PDF,GIF,SVG,SVGZ,BMP",
"documentInfo": {
"Title": "Public Works Maintenance Areas",
"Author": "",
"Comments": " Public Works Maintenance Areas breaks the city into 13 different management units for public works assets, labeled, local projection WKID 6420, tiled 125K to 250, migrated to Pro Jan 2024.<\/SPAN><\/P><\/DIV>",
"Subject": "Public Works Maintenance Areas breaks the city into 13 different management units for public works assets, labeled, local projection WKID 6420, tiled 125K to 250, migrated to Pro Jan 2024.",
"Category": "",
"Version": "2.6.0",
"AntialiasingMode": "Best",
"TextAntialiasingMode": "Force",
"Keywords": "City of Livermore,Maintenance Areas,Public Works"
},
"supportsQueryDomains": true,
"capabilities": "Map,Query,Data",
"supportedQueryFormats": "JSON, geoJSON, PBF",
"exportTilesAllowed": false,
"referenceScale": 0.0,
"supportsDatumTransformation": true,
"archivingInfo": {"supportsHistoricMoment": false},
"supportsClipping": true,
"supportsSpatialFilter": true,
"supportsTimeRelation": true,
"supportsQueryDataElements": true,
"mapUnits": {"uwkid": 9003},
"maxRecordCount": 100,
"maxImageHeight": 4096,
"maxImageWidth": 4096,
"supportedExtensions": "",
"resampling": false
}