{ "currentVersion": 11.2, "cimVersion": "3.2.0", "serviceDescription": "Landscape Maintenance Physical Assets (Points, Lines, Polys). Data compiled from Engineer's Reports, digitized fr. 2014 Aerial, updated 2018. Tiled Service, CA SP Zone 3 NAD83(2011) Datum WKID 6420", "mapName": "Layers", "description": "
Landscape Maintenance Physical Assets (Points, Lines, Polys). Data compiled from Engineer's Reports, digitized fr. 2014 Aerial, updated 2018. Tiled Service 125K to 250, CA SP Zone 3 NAD83(2011) Datum WKID 6420, migrated to Pro Jan 2024.<\/SPAN><\/P><\/DIV><\/DIV>",
"copyrightText": "",
"supportsDynamicLayers": true,
"layers": [],
"tables": [],
"spatialReference": {
"wkid": 103005,
"latestWkid": 6420,
"xyTolerance": 0.003280833333333333,
"zTolerance": 0.001,
"mTolerance": 0.001,
"falseX": -115860600,
"falseY": -93269500,
"xyUnits": 3.678742734568671E7,
"falseZ": -100000,
"zUnits": 10000,
"falseM": -100000,
"mUnits": 10000
},
"singleFusedMapCache": true,
"tileInfo": {
"rows": 256,
"cols": 256,
"dpi": 96,
"format": "PNG",
"compressionQuality": 0,
"origin": {
"x": -115860600,
"y": 151575000
},
"spatialReference": {
"wkid": 103005,
"latestWkid": 6420,
"xyTolerance": 0.003280833333333333,
"zTolerance": 0.001,
"mTolerance": 0.001,
"falseX": -115860600,
"falseY": -93269500,
"xyUnits": 3.678742734568671E7,
"falseZ": -100000,
"zUnits": 10000,
"falseM": -100000,
"mUnits": 10000
},
"lods": [
{
"level": 0,
"resolution": 108.50694444444444,
"scale": 125000
},
{
"level": 1,
"resolution": 55.55555555555555,
"scale": 64000
},
{
"level": 2,
"resolution": 27.777777777777775,
"scale": 32000
},
{
"level": 3,
"resolution": 13.888888888888888,
"scale": 16000
},
{
"level": 4,
"resolution": 6.944444444444444,
"scale": 8000
},
{
"level": 5,
"resolution": 3.472222222222222,
"scale": 4000
},
{
"level": 6,
"resolution": 1.736111111111111,
"scale": 2000
},
{
"level": 7,
"resolution": 0.8680555555555555,
"scale": 1000
},
{
"level": 8,
"resolution": 0.43402777777777773,
"scale": 500
},
{
"level": 9,
"resolution": 0.21701388888888887,
"scale": 250
}
]
},
"storageInfo": {
"storageFormat": "esriMapCacheStorageModeCompactV2",
"packetSize": 128
},
"initialExtent": {
"xmin": 6171993.064488731,
"ymin": 2055453.6775282454,
"xmax": 6222002.180511273,
"ymax": 2095277.539225733,
"spatialReference": {
"wkid": 103005,
"latestWkid": 6420,
"xyTolerance": 0.003280833333333333,
"zTolerance": 0.001,
"mTolerance": 0.001,
"falseX": -115860600,
"falseY": -93269500,
"xyUnits": 3.678742734568671E7,
"falseZ": -100000,
"zUnits": 10000,
"falseM": -100000,
"mUnits": 10000
}
},
"fullExtent": {
"xmin": 6173068.119565037,
"ymin": 2058327.8022872908,
"xmax": 6220927.125434966,
"ymax": 2092403.4144666877,
"spatialReference": {
"wkid": 103005,
"latestWkid": 6420,
"xyTolerance": 0.003280833333333333,
"zTolerance": 0.001,
"mTolerance": 0.001,
"falseX": -115860600,
"falseY": -93269500,
"xyUnits": 3.678742734568671E7,
"falseZ": -100000,
"zUnits": 10000,
"falseM": -100000,
"mUnits": 10000
}
},
"datesInUnknownTimezone": false,
"minScale": 125000,
"maxScale": 250,
"minLOD": 0,
"maxLOD": 9,
"units": "esriFeet",
"supportedImageFormatTypes": "PNG32,PNG24,PNG,JPG,DIB,TIFF,EMF,PS,PDF,GIF,SVG,SVGZ,BMP",
"documentInfo": {
"Title": "Landscape Maintenance Assets",
"Author": "",
"Comments": " Landscape Maintenance Physical Assets (Points, Lines, Polys). Data compiled from Engineer's Reports, digitized fr. 2014 Aerial, updated 2018. Tiled Service 125K to 250, CA SP Zone 3 NAD83(2011) Datum WKID 6420, migrated to Pro Jan 2024.<\/SPAN><\/P><\/DIV><\/DIV>",
"Subject": "Physical Assets within LMD areas i.e. areas where city has agreements with private HOAs for maintenance. Physical Assets (Points, Lines, Polys). Data compiled from Engineer's Reports, digitized fr. 2014 Aerial, updated 2018. Tiled Service 125K to 250, CA SP Zone 3 NAD83(2011) Datum WKID 6420, migrated to Pro Jan 2024.",
"Category": "",
"Version": "2.6.0",
"AntialiasingMode": "Best",
"TextAntialiasingMode": "Force",
"Keywords": "City of Livermore,Landscape Maintenance Assets"
},
"supportsQueryDomains": true,
"capabilities": "Map,Query,Data",
"supportedQueryFormats": "JSON, geoJSON, PBF",
"exportTilesAllowed": false,
"referenceScale": 0.0,
"supportsDatumTransformation": true,
"archivingInfo": {"supportsHistoricMoment": false},
"supportsClipping": true,
"supportsSpatialFilter": true,
"supportsTimeRelation": true,
"supportsQueryDataElements": true,
"mapUnits": {"uwkid": 9003},
"maxRecordCount": 1000,
"maxImageHeight": 4096,
"maxImageWidth": 4096,
"supportedExtensions": "",
"resampling": false
}