{ "currentVersion": 11.2, "cimVersion": "3.2.0", "serviceDescription": "Use to link to Utility map and Zoning map atlases, fused, local projection: CA SP Z3, US Feet, NAD83 (2011)", "mapName": "Layers", "description": "
Use to link to Utility map and Zoning map atlases, fused, local projection: CA SP Z3, US Feet, NAD83 (2011) WKID 6420, migrated to Pro Jan 2024<\/SPAN><\/P><\/DIV><\/DIV>",
"copyrightText": "",
"supportsDynamicLayers": true,
"layers": [
{
"id": 0,
"name": "City Map Grid",
"parentLayerId": -1,
"defaultVisibility": true,
"subLayerIds": null,
"minScale": 250000,
"maxScale": 0,
"type": "Feature Layer",
"geometryType": "esriGeometryPolygon",
"supportsDynamicLegends": true
}
],
"tables": [],
"spatialReference": {
"wkid": 103005,
"latestWkid": 6420,
"xyTolerance": 0.003280833333333333,
"zTolerance": 0.001,
"mTolerance": 0.001,
"falseX": -115860600,
"falseY": -93269500,
"xyUnits": 3.678742734568671E7,
"falseZ": -100000,
"zUnits": 10000,
"falseM": -100000,
"mUnits": 10000
},
"singleFusedMapCache": true,
"tileInfo": {
"rows": 256,
"cols": 256,
"dpi": 96,
"format": "PNG",
"compressionQuality": 0,
"origin": {
"x": -115860600,
"y": 151575000
},
"spatialReference": {
"wkid": 103005,
"latestWkid": 6420,
"xyTolerance": 0.003280833333333333,
"zTolerance": 0.001,
"mTolerance": 0.001,
"falseX": -115860600,
"falseY": -93269500,
"xyUnits": 3.678742734568671E7,
"falseZ": -100000,
"zUnits": 10000,
"falseM": -100000,
"mUnits": 10000
},
"lods": [
{
"level": 0,
"resolution": 108.50694444444444,
"scale": 125000
},
{
"level": 1,
"resolution": 55.55555555555555,
"scale": 64000
},
{
"level": 2,
"resolution": 27.777777777777775,
"scale": 32000
},
{
"level": 3,
"resolution": 13.888888888888888,
"scale": 16000
},
{
"level": 4,
"resolution": 6.944444444444444,
"scale": 8000
},
{
"level": 5,
"resolution": 3.472222222222222,
"scale": 4000
},
{
"level": 6,
"resolution": 1.736111111111111,
"scale": 2000
},
{
"level": 7,
"resolution": 0.8680555555555555,
"scale": 1000
},
{
"level": 8,
"resolution": 0.43402777777777773,
"scale": 500
},
{
"level": 9,
"resolution": 0.21701388888888887,
"scale": 250
}
]
},
"storageInfo": {
"storageFormat": "esriMapCacheStorageModeCompactV2",
"packetSize": 128
},
"initialExtent": {
"xmin": 6161781.050714516,
"ymin": 2049529.2937722509,
"xmax": 6224561.400508755,
"ymax": 2099523.2981933383,
"spatialReference": {
"wkid": 103005,
"latestWkid": 6420,
"xyTolerance": 0.003280833333333333,
"zTolerance": 0.001,
"mTolerance": 0.001,
"falseX": -115860600,
"falseY": -93269500,
"xyUnits": 3.678742734568671E7,
"falseZ": -100000,
"zUnits": 10000,
"falseM": -100000,
"mUnits": 10000
}
},
"fullExtent": {
"xmin": 6161781.050714516,
"ymin": 2049529.2937722509,
"xmax": 6224561.400508755,
"ymax": 2099523.2981933383,
"spatialReference": {
"wkid": 103005,
"latestWkid": 6420,
"xyTolerance": 0.003280833333333333,
"zTolerance": 0.001,
"mTolerance": 0.001,
"falseX": -115860600,
"falseY": -93269500,
"xyUnits": 3.678742734568671E7,
"falseZ": -100000,
"zUnits": 10000,
"falseM": -100000,
"mUnits": 10000
}
},
"datesInUnknownTimezone": false,
"minScale": 125000,
"maxScale": 250,
"minLOD": 0,
"maxLOD": 9,
"units": "esriFeet",
"supportedImageFormatTypes": "PNG32,PNG24,PNG,JPG,DIB,TIFF,EMF,PS,PDF,GIF,SVG,SVGZ,BMP",
"documentInfo": {
"Title": "City Atlas Map Grid",
"Author": "",
"Comments": " Use to link to Utility map and Zoning map atlases, fused, local projection: CA SP Z3, US Feet, NAD83 (2011) WKID 6420, migrated to Pro Jan 2024<\/SPAN><\/P><\/DIV><\/DIV>",
"Subject": "City Map (200 scale) Grid. Use to link to Utility map and Zoning map atlases, fused, local projection: CA SP Z3, US Feet, NAD83 (2011) WKID 6420, migrated to Pro Jan 2024",
"Category": "",
"Version": "2.6.0",
"AntialiasingMode": "Best",
"TextAntialiasingMode": "Force",
"Keywords": "City of Livermore,Grid,Atlas Map"
},
"supportsQueryDomains": true,
"capabilities": "Map,Query,Data",
"supportedQueryFormats": "JSON, geoJSON, PBF",
"hasVersionedData": true,
"exportTilesAllowed": false,
"referenceScale": 0.0,
"supportsDatumTransformation": true,
"archivingInfo": {"supportsHistoricMoment": false},
"supportsClipping": true,
"supportsSpatialFilter": true,
"supportsTimeRelation": true,
"supportsQueryDataElements": true,
"mapUnits": {"uwkid": 9003},
"maxRecordCount": 100,
"maxImageHeight": 4096,
"maxImageWidth": 4096,
"supportedExtensions": "",
"resampling": false
}