<?xml version="1.0" encoding="UTF-8" standalone="no"?>
<metadata xml:lang="en">
<Esri>
<CreaDate>20180118</CreaDate>
<CreaTime>13262300</CreaTime>
<ArcGISFormat>1.0</ArcGISFormat>
<SyncOnce>FALSE</SyncOnce>
<DataProperties>
<lineage>
<Process Date="20180118" Time="132623" ToolSource="c:\program files (x86)\arcgis\desktop10.4\ArcToolbox\Toolboxes\Data Management Tools.tbx\BuildPyramids">BuildPyramids "Database Connections\LCH-GISData Raster @DBO.sde\DBO.Aerial2017HighRes" -1 NONE NEAREST DEFAULT 75 OVERWRITE</Process>
<Process Date="20180125" Time="121928" ToolSource="c:\program files (x86)\arcgis\desktop10.4\ArcToolbox\Toolboxes\Data Management Tools.tbx\CalculateStatistics">CalculateStatistics "Database Connections\LCH-GISData Raster @DBO.sde\DBO.Aerial2017HighRes" 1 1 # OVERWRITE "Feature Set"</Process>
<Process Date="20180329" Time="072338" ToolSource="c:\program files (x86)\arcgis\desktop10.4\ArcToolbox\Toolboxes\Data Management Tools.tbx\Mosaic">Mosaic 'D:\DATA\2017 Aerial\62009E20908N.tif' "Database Connections\LCH-GISData Raster @DBO.sde\DBO.Aerial2017HighRes" LAST FIRST # # NONE 0 NONE</Process>
<Process Date="20180329" Time="080636" ToolSource="c:\program files (x86)\arcgis\desktop10.4\ArcToolbox\Toolboxes\Data Management Tools.tbx\Mosaic">Mosaic 'D:\DATA\2017 Aerial\62035E20618N.tif';'D:\DATA\2017 Aerial\62035E20644N.tif';'D:\DATA\2017 Aerial\62035E20670N.tif';'D:\DATA\2017 Aerial\62035E20697N.tif';'D:\DATA\2017 Aerial\62035E20723N.tif';'D:\DATA\2017 Aerial\62035E20750N.tif';'D:\DATA\2017 Aerial\62035E20776N.tif';'D:\DATA\2017 Aerial\62035E20802N.tif';'D:\DATA\2017 Aerial\62035E20829N.tif';'D:\DATA\2017 Aerial\62035E20855N.tif';'D:\DATA\2017 Aerial\62035E20882N.tif';'D:\DATA\2017 Aerial\62035E20908N.tif' "Database Connections\LCH-GISData Raster @DBO.sde\DBO.Aerial2017HighRes" LAST FIRST # # NONE 0 NONE</Process>
<Process Date="20180329" Time="090902" ToolSource="c:\program files (x86)\arcgis\desktop10.4\ArcToolbox\Toolboxes\Data Management Tools.tbx\Mosaic">Mosaic 'D:\DATA\2017 Aerial\62062E20618N.tif';'D:\DATA\2017 Aerial\62062E20644N.tif';'D:\DATA\2017 Aerial\62062E20670N.tif';'D:\DATA\2017 Aerial\62062E20697N.tif';'D:\DATA\2017 Aerial\62062E20723N.tif';'D:\DATA\2017 Aerial\62062E20750N.tif';'D:\DATA\2017 Aerial\62062E20776N.tif';'D:\DATA\2017 Aerial\62062E20802N.tif';'D:\DATA\2017 Aerial\62062E20829N.tif';'D:\DATA\2017 Aerial\62062E20855N.tif';'D:\DATA\2017 Aerial\62062E20882N.tif';'D:\DATA\2017 Aerial\62062E20908N.tif' "Database Connections\LCH-GISData Raster @DBO.sde\DBO.Aerial2017HighRes" LAST FIRST # # NONE 0 NONE</Process>
<Process Date="20180329" Time="094305" ToolSource="c:\program files (x86)\arcgis\desktop10.4\ArcToolbox\Toolboxes\Data Management Tools.tbx\Mosaic">Mosaic 'D:\DATA\2017 Aerial\62088E20618N.tif';'D:\DATA\2017 Aerial\62088E20644N.tif';'D:\DATA\2017 Aerial\62088E20670N.tif';'D:\DATA\2017 Aerial\62088E20697N.tif';'D:\DATA\2017 Aerial\62088E20723N.tif';'D:\DATA\2017 Aerial\62088E20750N.tif';'D:\DATA\2017 Aerial\62088E20776N.tif';'D:\DATA\2017 Aerial\62088E20802N.tif';'D:\DATA\2017 Aerial\62088E20829N.tif';'D:\DATA\2017 Aerial\62088E20855N.tif';'D:\DATA\2017 Aerial\62088E20882N.tif';'D:\DATA\2017 Aerial\62088E20908N.tif' "Database Connections\LCH-GISData Raster @DBO.sde\DBO.Aerial2017HighRes" LAST FIRST # # NONE 0 NONE</Process>
<Process Date="20180329" Time="110558" ToolSource="c:\program files (x86)\arcgis\desktop10.4\ArcToolbox\Toolboxes\Data Management Tools.tbx\Mosaic">Mosaic 'D:\DATA\2017 Aerial\62114E20618N.tif';'D:\DATA\2017 Aerial\62114E20644N.tif';'D:\DATA\2017 Aerial\62114E20670N.tif';'D:\DATA\2017 Aerial\62114E20697N.tif';'D:\DATA\2017 Aerial\62114E20723N.tif';'D:\DATA\2017 Aerial\62114E20750N.tif';'D:\DATA\2017 Aerial\62114E20776N.tif';'D:\DATA\2017 Aerial\62114E20802N.tif';'D:\DATA\2017 Aerial\62114E20829N.tif';'D:\DATA\2017 Aerial\62114E20855N.tif';'D:\DATA\2017 Aerial\62114E20882N.tif';'D:\DATA\2017 Aerial\62114E20908N.tif';'D:\DATA\2017 Aerial\62141E20618N.tif';'D:\DATA\2017 Aerial\62141E20644N.tif';'D:\DATA\2017 Aerial\62141E20670N.tif';'D:\DATA\2017 Aerial\62141E20697N.tif';'D:\DATA\2017 Aerial\62141E20723N.tif';'D:\DATA\2017 Aerial\62141E20750N.tif';'D:\DATA\2017 Aerial\62141E20776N.tif';'D:\DATA\2017 Aerial\62141E20802N.tif';'D:\DATA\2017 Aerial\62141E20829N.tif';'D:\DATA\2017 Aerial\62141E20855N.tif';'D:\DATA\2017 Aerial\62141E20882N.tif';'D:\DATA\2017 Aerial\62141E20908N.tif';'D:\DATA\2017 Aerial\62167E20618N.tif';'D:\DATA\2017 Aerial\62167E20644N.tif';'D:\DATA\2017 Aerial\62167E20670N.tif';'D:\DATA\2017 Aerial\62167E20697N.tif';'D:\DATA\2017 Aerial\62167E20723N.tif';'D:\DATA\2017 Aerial\62167E20750N.tif';'D:\DATA\2017 Aerial\62167E20776N.tif';'D:\DATA\2017 Aerial\62167E20802N.tif';'D:\DATA\2017 Aerial\62167E20829N.tif';'D:\DATA\2017 Aerial\62167E20855N.tif';'D:\DATA\2017 Aerial\62167E20882N.tif';'D:\DATA\2017 Aerial\62167E20908N.tif' "Database Connections\LCH-GISData Raster @DBO.sde\DBO.Aerial2017HighRes" LAST FIRST # # NONE 0 NONE</Process>
<Process Date="20180330" Time="101757" ToolSource="c:\program files (x86)\arcgis\desktop10.4\ArcToolbox\Toolboxes\Data Management Tools.tbx\BuildPyramids">BuildPyramids "Database Connections\LCH-GISData Raster @DBO.sde\DBO.Aerial2017HighRes" -1 NONE NEAREST DEFAULT 75 OVERWRITE</Process>
<Process Date="20180330" Time="123659" ToolSource="c:\program files (x86)\arcgis\desktop10.4\ArcToolbox\Toolboxes\Data Management Tools.tbx\CalculateStatistics">CalculateStatistics "Database Connections\LCH-GISData Raster @DBO.sde\DBO.Aerial2017HighRes" 1 1 # OVERWRITE "Feature Set"</Process>
<Process Date="20180411" Time="121710" ToolSource="c:\program files (x86)\arcgis\desktop10.4\ArcToolbox\Toolboxes\Data Management Tools.tbx\ChangePrivileges">ChangePrivileges 'Database Connections\Raster @DBO.sde\DBO.Aerial2001';'Database Connections\Raster @DBO.sde\DBO.Aerial2003';'Database Connections\Raster @DBO.sde\DBO.Aerial2005';'Database Connections\Raster @DBO.sde\DBO.Aerial2010';'Database Connections\Raster @DBO.sde\DBO.Aerial2013';'Database Connections\Raster @DBO.sde\DBO.Aerial2015';'Database Connections\Raster @DBO.sde\DBO.Aerial2015LowRes';'Database Connections\Raster @DBO.sde\DBO.Aerial2017';'Database Connections\Raster @DBO.sde\DBO.Aerial2017HighRes';'Database Connections\Raster @DBO.sde\DBO.Hillshade';'Database Connections\Raster @DBO.sde\DBO.Pleasanton2010' GIS GRANT AS_IS</Process>
<Process Date="20210914" Time="145944" ToolSource="d:\program files (x86)\arcgis\desktop10.8\ArcToolbox\Toolboxes\Data Management Tools.tbx\ChangePrivileges">ChangePrivileges 'Database Connections\_Raster@LCH-GISDB.sde\DBO.Aerial2017';'Database Connections\_Raster@LCH-GISDB.sde\DBO.Aerial2015';'Database Connections\_Raster@LCH-GISDB.sde\DBO.Aerial2010';'Database Connections\_Raster@LCH-GISDB.sde\DBO.Aerial2005';'Database Connections\_Raster@LCH-GISDB.sde\DBO.Aerial2003';'Database Connections\_Raster@LCH-GISDB.sde\DBO.Aerial2001';'Database Connections\_Raster@LCH-GISDB.sde\DBO.Aerial2013';'Database Connections\_Raster@LCH-GISDB.sde\DBO.Aerial2015LowRes';'Database Connections\_Raster@LCH-GISDB.sde\DBO.Aerial2017HighRes';'Database Connections\_Raster@LCH-GISDB.sde\DBO.Hillshade' GISWebUser GRANT #</Process>
<Process Date="20241009" Time="125623" ToolSource="c:\program files\arcgis\pro\Resources\ArcToolbox\toolboxes\Data Management Tools.tbx\ChangePrivileges">ChangePrivileges C:\Users\gisadmin\Documents\ArcGIS\Projects\Working\Raster.sde\DBO.Aerial2001;C:\Users\gisadmin\Documents\ArcGIS\Projects\Working\Raster.sde\DBO.Aerial2003;C:\Users\gisadmin\Documents\ArcGIS\Projects\Working\Raster.sde\DBO.Aerial2005;C:\Users\gisadmin\Documents\ArcGIS\Projects\Working\Raster.sde\DBO.Aerial2010;C:\Users\gisadmin\Documents\ArcGIS\Projects\Working\Raster.sde\DBO.Aerial2013;C:\Users\gisadmin\Documents\ArcGIS\Projects\Working\Raster.sde\DBO.Aerial2015;C:\Users\gisadmin\Documents\ArcGIS\Projects\Working\Raster.sde\DBO.Aerial2015LowRes;C:\Users\gisadmin\Documents\ArcGIS\Projects\Working\Raster.sde\DBO.Aerial2017;C:\Users\gisadmin\Documents\ArcGIS\Projects\Working\Raster.sde\DBO.Aerial2017HighRes;C:\Users\gisadmin\Documents\ArcGIS\Projects\Working\Raster.sde\DBO.Aerial2020;C:\Users\gisadmin\Documents\ArcGIS\Projects\Working\Raster.sde\DBO.Aerial2020WGS84;C:\Users\gisadmin\Documents\ArcGIS\Projects\Working\Raster.sde\DBO.Aerial2024;C:\Users\gisadmin\Documents\ArcGIS\Projects\Working\Raster.sde\DBO.Hillshade;C:\Users\gisadmin\Documents\ArcGIS\Projects\Working\Raster.sde\DBO.Pleasanton2010 GeoTG "Grant view privileges" "Do not change edit privileges"</Process>
<Process Date="20241009" Time="125827" ToolSource="c:\program files\arcgis\pro\Resources\ArcToolbox\toolboxes\Data Management Tools.tbx\ChangePrivileges">ChangePrivileges C:\Users\gisadmin\Documents\ArcGIS\Projects\Working\Raster.sde\DBO.Aerial2001;C:\Users\gisadmin\Documents\ArcGIS\Projects\Working\Raster.sde\DBO.Aerial2003;C:\Users\gisadmin\Documents\ArcGIS\Projects\Working\Raster.sde\DBO.Aerial2005;C:\Users\gisadmin\Documents\ArcGIS\Projects\Working\Raster.sde\DBO.Aerial2010;C:\Users\gisadmin\Documents\ArcGIS\Projects\Working\Raster.sde\DBO.Aerial2013;C:\Users\gisadmin\Documents\ArcGIS\Projects\Working\Raster.sde\DBO.Aerial2015;C:\Users\gisadmin\Documents\ArcGIS\Projects\Working\Raster.sde\DBO.Aerial2015LowRes;C:\Users\gisadmin\Documents\ArcGIS\Projects\Working\Raster.sde\DBO.Aerial2017;C:\Users\gisadmin\Documents\ArcGIS\Projects\Working\Raster.sde\DBO.Aerial2017HighRes;C:\Users\gisadmin\Documents\ArcGIS\Projects\Working\Raster.sde\DBO.Aerial2020;C:\Users\gisadmin\Documents\ArcGIS\Projects\Working\Raster.sde\DBO.Aerial2020WGS84;C:\Users\gisadmin\Documents\ArcGIS\Projects\Working\Raster.sde\DBO.Aerial2024;C:\Users\gisadmin\Documents\ArcGIS\Projects\Working\Raster.sde\DBO.Hillshade;C:\Users\gisadmin\Documents\ArcGIS\Projects\Working\Raster.sde\DBO.Pleasanton2010 HDRInc "Grant view privileges" "Do not change edit privileges"</Process>
</lineage>
<itemProps>
<itemName Sync="TRUE">DBO.Aerial2017HighRes</itemName>
<imsContentType Sync="TRUE">002</imsContentType>
<nativeExtBox>
<westBL Sync="TRUE">6169240.083786</westBL>
<eastBL Sync="TRUE">6219400.083786</eastBL>
<southBL Sync="TRUE">2051239.964322</southBL>
<northBL Sync="TRUE">2093479.964322</northBL>
<exTypeCode Sync="TRUE">1</exTypeCode>
</nativeExtBox>
<itemLocation>
<linkage Sync="TRUE">Server=lch-gisdata; Service=sde:sqlserver:lch-gisdata\gis; Database=Raster; Version=sde.DEFAULT</linkage>
<protocol Sync="TRUE">ArcSDE Connection</protocol>
</itemLocation>
</itemProps>
<coordRef>
<type Sync="TRUE">Projected</type>
<geogcsn Sync="TRUE">GCS_North_American_1983</geogcsn>
<csUnits Sync="TRUE">Linear Unit: Foot_US (0.304801)</csUnits>
<projcsn Sync="TRUE">NAD_1983_StatePlane_California_III_FIPS_0403_Feet</projcsn>
<peXml Sync="TRUE">&lt;ProjectedCoordinateSystem xsi:type='typens:ProjectedCoordinateSystem' xmlns:xsi='http://www.w3.org/2001/XMLSchema-instance' xmlns:xs='http://www.w3.org/2001/XMLSchema' xmlns:typens='http://www.esri.com/schemas/ArcGIS/10.7'&gt;&lt;WKT&gt;PROJCS[&amp;quot;NAD_1983_StatePlane_California_III_FIPS_0403_Feet&amp;quot;,GEOGCS[&amp;quot;GCS_North_American_1983&amp;quot;,DATUM[&amp;quot;D_North_American_1983&amp;quot;,SPHEROID[&amp;quot;GRS_1980&amp;quot;,6378137.0,298.257222101]],PRIMEM[&amp;quot;Greenwich&amp;quot;,0.0],UNIT[&amp;quot;Degree&amp;quot;,0.0174532925199433]],PROJECTION[&amp;quot;Lambert_Conformal_Conic&amp;quot;],PARAMETER[&amp;quot;False_Easting&amp;quot;,6561666.666666666],PARAMETER[&amp;quot;False_Northing&amp;quot;,1640416.666666667],PARAMETER[&amp;quot;Central_Meridian&amp;quot;,-120.5],PARAMETER[&amp;quot;Standard_Parallel_1&amp;quot;,37.06666666666667],PARAMETER[&amp;quot;Standard_Parallel_2&amp;quot;,38.43333333333333],PARAMETER[&amp;quot;Latitude_Of_Origin&amp;quot;,36.5],UNIT[&amp;quot;Foot_US&amp;quot;,0.3048006096012192],AUTHORITY[&amp;quot;EPSG&amp;quot;,2227]]&lt;/WKT&gt;&lt;XOrigin&gt;-115860600&lt;/XOrigin&gt;&lt;YOrigin&gt;-93269500&lt;/YOrigin&gt;&lt;XYScale&gt;36787427.345686711&lt;/XYScale&gt;&lt;ZOrigin&gt;-100000&lt;/ZOrigin&gt;&lt;ZScale&gt;10000&lt;/ZScale&gt;&lt;MOrigin&gt;-100000&lt;/MOrigin&gt;&lt;MScale&gt;10000&lt;/MScale&gt;&lt;XYTolerance&gt;0.0032808333333333331&lt;/XYTolerance&gt;&lt;ZTolerance&gt;0.001&lt;/ZTolerance&gt;&lt;MTolerance&gt;0.001&lt;/MTolerance&gt;&lt;HighPrecision&gt;true&lt;/HighPrecision&gt;&lt;WKID&gt;102643&lt;/WKID&gt;&lt;LatestWKID&gt;2227&lt;/LatestWKID&gt;&lt;/ProjectedCoordinateSystem&gt;</peXml>
</coordRef>
</DataProperties>
<SyncDate>20200311</SyncDate>
<SyncTime>08313500</SyncTime>
<ModDate>20200311</ModDate>
<ModTime>08313500</ModTime>
</Esri>
<dataIdInfo>
<envirDesc Sync="TRUE"> Version 6.2 (Build 9200) ; Esri ArcGIS 10.7.1.11595</envirDesc>
<dataLang>
<languageCode Sync="TRUE" value="eng"/>
<countryCode Sync="TRUE" value="USA"/>
</dataLang>
<idCitation>
<resTitle Sync="TRUE">Aerial2017</resTitle>
<presForm>
<PresFormCd Sync="TRUE" value="011"/>
</presForm>
</idCitation>
<spatRpType>
<SpatRepTypCd Sync="TRUE" value="002"/>
</spatRpType>
<dataExt>
<geoEle>
<GeoBndBox esriExtentType="search">
<exTypeCode Sync="TRUE">1</exTypeCode>
<westBL Sync="TRUE">-121.857121</westBL>
<eastBL Sync="TRUE">-121.681829</eastBL>
<northBL Sync="TRUE">37.738360</northBL>
<southBL Sync="TRUE">37.620495</southBL>
</GeoBndBox>
</geoEle>
</dataExt>
<idAbs/>
<searchKeys>
<keyword>Aerial</keyword>
<keyword>Imagery</keyword>
<keyword>Pictometry</keyword>
</searchKeys>
<idPurp>3-band color 0.25 pixel resolution aerial imagery from Alameda County/Pictometry program. Raster file name is Aerial2017HighRes, local projection (WKID 2227), image service, not tiled</idPurp>
<idCredit/>
<resConst>
<Consts>
<useLimit/>
</Consts>
</resConst>
</dataIdInfo>
<mdLang>
<languageCode Sync="TRUE" value="eng"/>
<countryCode Sync="TRUE" value="USA"/>
</mdLang>
<distInfo>
<distFormat>
<formatName Sync="TRUE">SDE Raster Dataset</formatName>
</distFormat>
</distInfo>
<mdHrLv>
<ScopeCd Sync="TRUE" value="005"/>
</mdHrLv>
<mdHrLvName Sync="TRUE">dataset</mdHrLvName>
<refSysInfo>
<RefSystem>
<refSysID>
<identCode Sync="TRUE" code="2227"/>
<idCodeSpace Sync="TRUE">EPSG</idCodeSpace>
<idVersion Sync="TRUE">5.3(9.0.0)</idVersion>
</refSysID>
</RefSystem>
</refSysInfo>
<spdoinfo>
<rastinfo>
<rasttype Sync="TRUE">Pixel</rasttype>
<rowcount Sync="TRUE">168960</rowcount>
<colcount Sync="TRUE">200640</colcount>
<rastxsz Sync="TRUE">0.250000</rastxsz>
<rastysz Sync="TRUE">0.250000</rastysz>
<rastbpp Sync="TRUE">8</rastbpp>
<vrtcount Sync="TRUE">1</vrtcount>
<rastorig Sync="TRUE">Upper Left</rastorig>
<rastcmap Sync="TRUE">FALSE</rastcmap>
<rastcomp Sync="TRUE">LZ77</rastcomp>
<rastband Sync="TRUE">3</rastband>
<rastdtyp Sync="TRUE">pixel codes</rastdtyp>
<rastifor Sync="TRUE">SDR</rastifor>
<rastplyr Sync="TRUE">TRUE</rastplyr>
</rastinfo>
</spdoinfo>
<spref>
<horizsys>
<planar>
<planci>
<plance Sync="TRUE">row and column</plance>
<coordrep>
<absres Sync="TRUE">0.250000</absres>
<ordres Sync="TRUE">0.250000</ordres>
</coordrep>
</planci>
</planar>
</horizsys>
</spref>
<mdDateSt Sync="TRUE">20200311</mdDateSt>
</metadata>
