{
 "currentVersion": 11.2,
 "serviceDescription": "2015 Aerial Imagery High Resolution 3\" Pixels, Dynamic, WKID2227",
 "name": "Aerials/Aerial2015",
 "description": "2015 Aerial Imagery High Resolution 3\" Pixels, Dynamic, WKID2227",
 "extent": {
  "xmin": 6169240,
  "ymin": 2051240,
  "xmax": 6219400,
  "ymax": 2093480,
  "spatialReference": {
   "wkid": 102643,
   "latestWkid": 2227
  }
 },
 "initialExtent": {
  "xmin": 6169240,
  "ymin": 2051240,
  "xmax": 6219400,
  "ymax": 2093480,
  "spatialReference": {
   "wkid": 102643,
   "latestWkid": 2227
  }
 },
 "fullExtent": {
  "xmin": 6169240,
  "ymin": 2051240,
  "xmax": 6219400,
  "ymax": 2093480,
  "spatialReference": {
   "wkid": 102643,
   "latestWkid": 2227
  }
 },
 "sortableFields": "",
 "bandCount": 3,
 "pixelType": "U8",
 "minValues": [
  0,
  0,
  0
 ],
 "maxValues": [
  255,
  255,
  255
 ],
 "meanValues": [
  144.29731673886332,
  136.51946341526545,
  122.4891935542962
 ],
 "stdvValues": [
  49.10604488891141,
  46.927432230343754,
  48.772578068413615
 ],
 "hasMultidimensions": false,
 "pixelSizeX": 0.25,
 "pixelSizeY": 0.25,
 "meanPixelSize": 0.07620015240030481,
 "datasetFormat": "SDR",
 "uncompressedSize": 101700403200,
 "blockWidth": 128,
 "blockHeight": 128,
 "compressionType": "LZ77",
 "bandNames": [
  "Band_1",
  "Band_2",
  "Band_3"
 ],
 "allowCopy": true,
 "allowAnalysis": true,
 "itemAccess": false,
 "inspectionCapabilities": "",
 "minPixelSize": 0,
 "maxPixelSize": 0,
 "copyrightText": "",
 "serviceDataType": "esriImageServiceDataTypeRGB",
 "serviceSourceType": "esriImageServiceSourceTypeDataset",
 "objectIdField": "",
 "fields": [],
 "capabilities": "Mensuration,Image,Metadata",
 "defaultMosaicMethod": "Center",
 "allowedMosaicMethods": "",
 "sortField": "",
 "sortValue": null,
 "sortAscending": true,
 "mosaicOperator": "First",
 "defaultCompressionQuality": 75,
 "defaultResamplingMethod": "Bilinear",
 "maxImageHeight": 4100,
 "maxImageWidth": 15000,
 "allowRasterFunction": true,
 "rasterFunctionInfos": [
  {
   "name": "None",
   "description": "",
   "help": ""
  }
 ],
 "rasterTypeInfos": [
  {
   "name": "Raster Dataset",
   "description": "Supports all ArcGIS Raster Datasets",
   "help": ""
  }
 ],
 "mensurationCapabilities": "Basic",
 "hasHistograms": true,
 "hasColormap": false,
 "hasRasterAttributeTable": false,
 "minScale": 0,
 "maxScale": 0,
 "exportTilesAllowed": false,
 "supportsStatistics": false,
 "supportsAdvancedQueries": false,
 "editFieldsInfo": null,
 "ownershipBasedAccessControlForRasters": null,
 "allowComputeTiePoints": false,
 "useStandardizedQueries": true,
 "advancedQueryCapabilities": {
  "useStandardizedQueries": true,
  "supportsStatistics": false,
  "supportsOrderBy": false,
  "supportsDistinct": false,
  "supportsPagination": false
 },
 "spatialReference": {
  "wkid": 102643,
  "latestWkid": 2227
 },
 "resampling": false
}
